BEGIN:VCALENDAR
VERSION:2.0
METHOD:PUBLISH
PRODID:http://www.eye-tech-solutions.com
CALSCALE:GREGORIAN
BEGIN:VEVENT
DTSTART:20200516
DTEND:20200518
UID:308@www.eye-tech-solutions.com
LOCATION:Congress Schladming\nEuropaplatz 800\, 8970 Schladming
  \nÖsterreich
GEO:47.39585485\;13.69594940627
DESCRIPTION:Annual Meeting of the American Society of Cataract and
  Refractive Surgery 
  \nhttps://www.eye-tech-solutions.com/de/infocenter/veranstaltungen/ascrs-2020-virtual-meeting
SUMMARY:ASCRS 2020 Virtual Annual Meeting
DTSTAMP:20200506T111603Z
STATUS:CONFIRMED
TRANSP:OPAQUE
END:VEVENT
END:VCALENDAR
